BEGIN:VCALENDAR
VERSION:2.0
PRODID:icalendar-ruby
CALSCALE:GREGORIAN
METHOD:PUBLISH
BEGIN:VEVENT
DTSTAMP:20260421T093324Z
UID:87-223634@stthomasstittsville.ca
DTSTART:20260523T130000Z
DTEND:20260523T170000Z
CLASS:PUBLIC
CREATED:20260409T201825
DESCRIPTION:
LAST-MODIFIED:20260409T201825
LOCATION:Church Yard
SUMMARY:Spring Yard Sale
URL;VALUE=URI:https://www.stthomasstittsville.ca/events/spring-yard-sale--8
 7/2026-05-23
ATTACH;FILENAME=yard sale.jpg;FMTTYPE=image/jpeg:https://dq5pwpg1q8ru0.clou
 dfront.net/2026/04/10/00/18/25/085274de-843e-421c-a5f0-5d80af7462bb/yard%2
 0sale.jpg
END:VEVENT
END:VCALENDAR
