BEGIN:VCALENDAR
VERSION:2.0
PRODID:icalendar-ruby
CALSCALE:GREGORIAN
METHOD:PUBLISH
BEGIN:VEVENT
DTSTAMP:20260425T211858Z
UID:91-230536@stthomasstittsville.ca
DTSTART:20260514T230000Z
DTEND:20260515T000000Z
CLASS:PUBLIC
CREATED:20260424T094013
DESCRIPTION:
LAST-MODIFIED:20260424T094013
LOCATION:Council Room
SUMMARY:Parish Council Meeting
URL;VALUE=URI:https://www.stthomasstittsville.ca/events/parish-council-meet
 ing--91/2026-05-14
ATTACH;FILENAME=ParishCouncilLogo.png;FMTTYPE=image/png:https://dq5pwpg1q8r
 u0.cloudfront.net/2026/04/24/13/40/13/0c050e9e-afd4-4e8e-b77a-ac4a80fbf20b
 /ParishCouncilLogo.png
END:VEVENT
END:VCALENDAR
