BEGIN:VCALENDAR
VERSION:2.0
PRODID:icalendar-ruby
CALSCALE:GREGORIAN
METHOD:PUBLISH
BEGIN:VEVENT
DTSTAMP:20260421T091148Z
UID:85-223635@stthomasstittsville.ca
DTSTART;VALUE=DATE:20260516
DTEND;VALUE=DATE:20260516
CLASS:PUBLIC
CREATED:20260409T201900
DESCRIPTION:Doors open at 4:30. Dinner served at 5.
LAST-MODIFIED:20260409T201900
LOCATION:Church Hall
SUMMARY:Open Table
URL;VALUE=URI:https://www.stthomasstittsville.ca/events/open-table--85/2026
 -05-16
ATTACH;FILENAME=OpenTable.png;FMTTYPE=image/png:https://dq5pwpg1q8ru0.cloud
 front.net/2026/04/09/23/43/19/ab7411b1-d882-4bd8-ba71-b49951e9cef8/OpenTab
 le.png
END:VEVENT
END:VCALENDAR
